BEGIN:VCALENDAR
VERSION:2.0
METHOD:PUBLISH
BEGIN:VEVENT
DTSTART:20200703T130000Z
DTEND:20200704T200000Z
LOCATION:Streetman, TX 75859
TRANSP: OPAQUE
SEQUENCE:0
UID:
DTSTAMP:20260424T215832Z
SUMMARY:Lakeside Estate Sales LLC, Fantastic 4th of July Weekend Sale! Richland Chambers Lake Streetman, TX.
DESCRIPTION:Lakeside Estate Sales LLC, Fantastic 4th of July Weekend Sale! Richland Chambers Lake Streetman, TX. Lakeside Estate Sales, CGL LLC. 
UID:1777089512
STREET-ADDRESS:See website
POSTAL-CODE:75859
LOCALITY:Streetman
REGION:ABBREV=TX
COUNTRY:ABBREV=US;ABBREV=USA:United States
URL;TYPE=Event Listing:https://estatesales.org/estate-sales/tx/streetman/75859/lakeside-estate-sales-llc-fantastic-1794351
PRIORITY:1
CLASS:PUBLIC
SEQUENCE:0
STATUS:CONFIRMED
TRANSP:OPAQUE
END:VEVENT
END:VCALENDAR
