BEGIN:VCALENDAR
VERSION:2.0
METHOD:PUBLISH
BEGIN:VEVENT
DTSTART:20160703T150000Z
DTEND:20160703T060000Z
LOCATION:Carson City, NV 89701
TRANSP: OPAQUE
SEQUENCE:0
UID:
DTSTAMP:20260425T194248Z
SUMMARY:Estate and Vehicle Auctions on Sunday, July 3, 2016 at 9:00am PST and 12:00pm (noon) PST
DESCRIPTION:Estate and Vehicle Auctions on Sunday, July 3, 2016 at 9:00am PST and 12:00pm (noon) PST Carson City Auction Company 
UID:1777167768
STREET-ADDRESS:See website
POSTAL-CODE:89701
LOCALITY:Carson City
REGION:ABBREV=NV
COUNTRY:ABBREV=US;ABBREV=USA:United States
URL;TYPE=Event Listing:https://estatesales.org/estate-sales/nv/carson-city/89701/estate-and-vehicle-auctions-on-901701
PRIORITY:1
CLASS:PUBLIC
SEQUENCE:0
STATUS:CONFIRMED
TRANSP:OPAQUE
END:VEVENT
END:VCALENDAR
