BEGIN:VCALENDAR
VERSION:2.0
METHOD:PUBLISH
BEGIN:VEVENT
DTSTART:20220702T120000Z
DTEND:20220702T180000Z
LOCATION:Leechburg, PA 15656
TRANSP: OPAQUE
SEQUENCE:0
UID:
DTSTAMP:20260419T082715Z
SUMMARY:Estate Liquidation Leechburg Pa
DESCRIPTION:Estate Liquidation Leechburg Pa Williams & Barron Estate Services LLC 
UID:1776608835
STREET-ADDRESS:See website
POSTAL-CODE:15656
LOCALITY:Leechburg
REGION:ABBREV=PA
COUNTRY:ABBREV=US;ABBREV=USA:United States
URL;TYPE=Event Listing:https://estatesales.org/estate-sales/pa/leechburg/15656/estate-liquidation-leechburg-pa-2063515
PRIORITY:1
CLASS:PUBLIC
SEQUENCE:0
STATUS:CONFIRMED
TRANSP:OPAQUE
END:VEVENT
END:VCALENDAR
