BEGIN:VCALENDAR
VERSION:2.0
METHOD:PUBLISH
BEGIN:VEVENT
DTSTART:20230630T140000Z
DTEND:20230630T190000Z
LOCATION:Cedar Rapids, IA 52405
TRANSP: OPAQUE
SEQUENCE:0
UID:
DTSTAMP:20260425T194533Z
SUMMARY:Estate Sale NW Cedar Rapids
DESCRIPTION:Estate Sale NW Cedar Rapids Caring Transitions of Cedar Rapids & Iowa City 
UID:1777167933
STREET-ADDRESS:See website
POSTAL-CODE:52405
LOCALITY:Cedar Rapids
REGION:ABBREV=IA
COUNTRY:ABBREV=US;ABBREV=USA:United States
URL;TYPE=Event Listing:https://estatesales.org/estate-sales/ia/cedar-rapids-/52405/estate-sale-nw-cedar-rapids-2198889
PRIORITY:1
CLASS:PUBLIC
SEQUENCE:0
STATUS:CONFIRMED
TRANSP:OPAQUE
END:VEVENT
END:VCALENDAR
