BEGIN:VCALENDAR
VERSION:2.0
METHOD:PUBLISH
BEGIN:VEVENT
DTSTART:20180630T133000Z
DTEND:20180701T180000Z
LOCATION:Montclair, NJ 07043
TRANSP: OPAQUE
SEQUENCE:0
UID:
DTSTAMP:20260425T162232Z
SUMMARY:EASY PICKING IS IN MONTCLAIR, NJ FOR A 2 DAY SALE. OVER 50 YEARS OF STUFF. 
DESCRIPTION:EASY PICKING IS IN MONTCLAIR, NJ FOR A 2 DAY SALE. OVER 50 YEARS OF STUFF.  Easy Picking Estate Sales 
UID:1777155752
STREET-ADDRESS:See website
POSTAL-CODE:07043
LOCALITY:Montclair
REGION:ABBREV=NJ
COUNTRY:ABBREV=US;ABBREV=USA:United States
URL;TYPE=Event Listing:https://estatesales.org/estate-sales/nj/montclair/07043/easy-picking-is-in-montclair-1532957
PRIORITY:1
CLASS:PUBLIC
SEQUENCE:0
STATUS:CONFIRMED
TRANSP:OPAQUE
END:VEVENT
END:VCALENDAR
