BEGIN:VCALENDAR
VERSION:2.0
METHOD:PUBLISH
BEGIN:VEVENT
DTSTART:20160630T180000Z
DTEND:20160702T200000Z
LOCATION:Rowland Heights, CA 91748
TRANSP: OPAQUE
SEQUENCE:0
UID:
DTSTAMP:20260425T055854Z
SUMMARY:"SOMETHING FOR EVERYONE" ESTATE SALE!!!  Moving out of State! All Must Go, Go, Go!!!!!
DESCRIPTION:"SOMETHING FOR EVERYONE" ESTATE SALE!!!  Moving out of State! All Must Go, Go, Go!!!!! Sweet Memories 
UID:1777118334
STREET-ADDRESS:See website
POSTAL-CODE:91748
LOCALITY:Rowland Heights
REGION:ABBREV=CA
COUNTRY:ABBREV=US;ABBREV=USA:United States
URL;TYPE=Event Listing:https://estatesales.org/estate-sales/ca/rowland-heights/91748/something-for-everyone-estate-sale-901541
PRIORITY:1
CLASS:PUBLIC
SEQUENCE:0
STATUS:CONFIRMED
TRANSP:OPAQUE
END:VEVENT
END:VCALENDAR
