BEGIN:VCALENDAR
VERSION:2.0
METHOD:PUBLISH
BEGIN:VEVENT
DTSTART:20240629T143000Z
DTEND:20240629T183000Z
LOCATION:Stony Brook, NY 11790
TRANSP: OPAQUE
SEQUENCE:0
UID:
DTSTAMP:20260423T110327Z
SUMMARY:Bonnie Lane, Retro Decor, Holiday Decorations and More
DESCRIPTION:Bonnie Lane, Retro Decor, Holiday Decorations and More Barton & Co 
UID:1776963807
STREET-ADDRESS:See website
POSTAL-CODE:11790
LOCALITY:Stony Brook
REGION:ABBREV=NY
COUNTRY:ABBREV=US;ABBREV=USA:United States
URL;TYPE=Event Listing:https://estatesales.org/estate-sales/ny/stony-brook/11790/bonnie-lane-retro-decor-holiday-2324465
PRIORITY:1
CLASS:PUBLIC
SEQUENCE:0
STATUS:CONFIRMED
TRANSP:OPAQUE
END:VEVENT
END:VCALENDAR
