BEGIN:VCALENDAR
VERSION:2.0
METHOD:PUBLISH
BEGIN:VEVENT
DTSTART:20240629T120000Z
DTEND:20240629T180000Z
LOCATION:Punta Gorda, FL 33982
TRANSP: OPAQUE
SEQUENCE:0
UID:
DTSTAMP:20260421T231558Z
SUMMARY:Babcock Ranch Estate sale - One Day only
DESCRIPTION:Babcock Ranch Estate sale - One Day only Caring Transitions of Venice 
UID:1776834958
STREET-ADDRESS:See website
POSTAL-CODE:33982
LOCALITY:Punta Gorda
REGION:ABBREV=FL
COUNTRY:ABBREV=US;ABBREV=USA:United States
URL;TYPE=Event Listing:https://estatesales.org/estate-sales/fl/punta-gorda/33982/babcock-ranch-estate-sale-one-2323717
PRIORITY:1
CLASS:PUBLIC
SEQUENCE:0
STATUS:CONFIRMED
TRANSP:OPAQUE
END:VEVENT
END:VCALENDAR
