BEGIN:VCALENDAR
VERSION:2.0
METHOD:PUBLISH
BEGIN:VEVENT
DTSTART:20220629T150000Z
DTEND:20220629T210000Z
LOCATION:Algonquin, IL 60102
TRANSP: OPAQUE
SEQUENCE:0
UID:
DTSTAMP:20260425T162600Z
SUMMARY:One Day Blow Out Sale! Algonquin Estate Sale! The Ageless Treasure!
DESCRIPTION:One Day Blow Out Sale! Algonquin Estate Sale! The Ageless Treasure! The Ageless Treasure 
UID:1777155960
STREET-ADDRESS:See website
POSTAL-CODE:60102
LOCALITY:Algonquin
REGION:ABBREV=IL
COUNTRY:ABBREV=US;ABBREV=USA:United States
URL;TYPE=Event Listing:https://estatesales.org/estate-sales/il/algonquin/60102/one-day-blow-out-sale-2062521
PRIORITY:1
CLASS:PUBLIC
SEQUENCE:0
STATUS:CONFIRMED
TRANSP:OPAQUE
END:VEVENT
END:VCALENDAR
