BEGIN:VCALENDAR
VERSION:2.0
METHOD:PUBLISH
BEGIN:VEVENT
DTSTART:20190629T130000Z
DTEND:20190630T193000Z
LOCATION:Clearwater, FL 33764
TRANSP: OPAQUE
SEQUENCE:0
UID:
DTSTAMP:20260423T131102Z
SUMMARY:Back to the 60's Flashback Glam Nautical Steampunk Estate Sale
DESCRIPTION:Back to the 60's Flashback Glam Nautical Steampunk Estate Sale Right Directions LLC 
UID:1776971462
STREET-ADDRESS:See website
POSTAL-CODE:33764
LOCALITY:Clearwater
REGION:ABBREV=FL
COUNTRY:ABBREV=US;ABBREV=USA:United States
URL;TYPE=Event Listing:https://estatesales.org/estate-sales/fl/clearwater/33764/back-to-the-60s-flashback-1681895
PRIORITY:1
CLASS:PUBLIC
SEQUENCE:0
STATUS:CONFIRMED
TRANSP:OPAQUE
END:VEVENT
END:VCALENDAR
