BEGIN:VCALENDAR
VERSION:2.0
METHOD:PUBLISH
BEGIN:VEVENT
DTSTART:20180629T150000Z
DTEND:20180630T200000Z
LOCATION:Shawnee, KS 66217
TRANSP: OPAQUE
SEQUENCE:0
UID:
DTSTAMP:20260419T082629Z
SUMMARY:HOLY Cow in Shawnee with Caring Transitions Kansas City****NOTE ADDRESS OFF MIDLAND
DESCRIPTION:HOLY Cow in Shawnee with Caring Transitions Kansas City****NOTE ADDRESS OFF MIDLAND Caring Transitions Kansas City 
UID:1776608789
STREET-ADDRESS:See website
POSTAL-CODE:66217
LOCALITY:Shawnee
REGION:ABBREV=KS
COUNTRY:ABBREV=US;ABBREV=USA:United States
URL;TYPE=Event Listing:https://estatesales.org/estate-sales/ks/shawnee/66217/holy-cow-in-shawnee-with-1537571
PRIORITY:1
CLASS:PUBLIC
SEQUENCE:0
STATUS:CONFIRMED
TRANSP:OPAQUE
END:VEVENT
END:VCALENDAR
