BEGIN:VCALENDAR
VERSION:2.0
METHOD:PUBLISH
BEGIN:VEVENT
DTSTART:20180629T160000Z
DTEND:20180701T210000Z
LOCATION:Leander, TX 78645
TRANSP: OPAQUE
SEQUENCE:0
UID:
DTSTAMP:20260424T121953Z
SUMMARY:PHASE II HILL TOP VIEW IN JONESTOWN *****Sunday is Discount Day***** 
DESCRIPTION:PHASE II HILL TOP VIEW IN JONESTOWN *****Sunday is Discount Day*****  Past 2 Present Estate Sale Service 
UID:1777054793
STREET-ADDRESS:See website
POSTAL-CODE:78645
LOCALITY:Leander
REGION:ABBREV=TX
COUNTRY:ABBREV=US;ABBREV=USA:United States
URL;TYPE=Event Listing:https://estatesales.org/estate-sales/tx/jonestown/78645/phase-ii-hill-top-view-1532443
PRIORITY:1
CLASS:PUBLIC
SEQUENCE:0
STATUS:CONFIRMED
TRANSP:OPAQUE
END:VEVENT
END:VCALENDAR
