BEGIN:VCALENDAR
VERSION:2.0
METHOD:PUBLISH
BEGIN:VEVENT
DTSTART:20170629T120000Z
DTEND:20170702T190000Z
LOCATION:Lutz, FL 33558
TRANSP: OPAQUE
SEQUENCE:0
UID:
DTSTAMP:20260421T112842Z
SUMMARY:MASTER of ART PROFESSOR'S Absolutely Astounding Estate w/ Collection of OVER 1,000 PIECES OF POTTERY
DESCRIPTION:MASTER of ART PROFESSOR'S Absolutely Astounding Estate w/ Collection of OVER 1,000 PIECES OF POTTERY Full House Liquidation 
UID:1776792522
STREET-ADDRESS:See website
POSTAL-CODE:33558
LOCALITY:Lutz
REGION:ABBREV=FL
COUNTRY:ABBREV=US;ABBREV=USA:United States
URL;TYPE=Event Listing:https://estatesales.org/estate-sales/fl/lutz/33558/master-of-art-professors-absolutely-1275007
PRIORITY:1
CLASS:PUBLIC
SEQUENCE:0
STATUS:CONFIRMED
TRANSP:OPAQUE
END:VEVENT
END:VCALENDAR
