BEGIN:VCALENDAR
VERSION:2.0
METHOD:PUBLISH
BEGIN:VEVENT
DTSTART:20250628T130000Z
DTEND:20250629T190000Z
LOCATION:Florence, NJ 08518
TRANSP: OPAQUE
SEQUENCE:0
UID:
DTSTAMP:20260425T162413Z
SUMMARY:Disney, Babara, elephants galore, crafting/quilting supplies, vintage toys, antique furniture, Postal collectibles, Tiffany style lamps, vintage ads, tea pots, costume jewelry, etc.-Florence, NJ
DESCRIPTION:Disney, Babara, elephants galore, crafting/quilting supplies, vintage toys, antique furniture, Postal collectibles, Tiffany style lamps, vintage ads, tea pots, costume jewelry, etc.-Florence, NJ Heirloom Emporium Estate Sales, LLC 
UID:1777155853
STREET-ADDRESS:See website
POSTAL-CODE:08518
LOCALITY:Florence
REGION:ABBREV=NJ
COUNTRY:ABBREV=US;ABBREV=USA:United States
URL;TYPE=Event Listing:https://estatesales.org/estate-sales/nj/florence/08518/florence-nj-2386769
PRIORITY:1
CLASS:PUBLIC
SEQUENCE:0
STATUS:CONFIRMED
TRANSP:OPAQUE
END:VEVENT
END:VCALENDAR
