BEGIN:VCALENDAR
VERSION:2.0
METHOD:PUBLISH
BEGIN:VEVENT
DTSTART:20250628T130000Z
DTEND:20250629T170000Z
LOCATION:Central Square, NY 13036
TRANSP: OPAQUE
SEQUENCE:0
UID:
DTSTAMP:20260423T074750Z
SUMMARY:Central Square Estate Sale
DESCRIPTION:Central Square Estate Sale Clear Horizon Estate Services 
UID:1776952070
STREET-ADDRESS:See website
POSTAL-CODE:13036
LOCALITY:Central Square
REGION:ABBREV=NY
COUNTRY:ABBREV=US;ABBREV=USA:United States
URL;TYPE=Event Listing:https://estatesales.org/estate-sales/ny/central-square/13036/central-square-estate-sale-2386975
PRIORITY:1
CLASS:PUBLIC
SEQUENCE:0
STATUS:CONFIRMED
TRANSP:OPAQUE
END:VEVENT
END:VCALENDAR
