BEGIN:VCALENDAR
VERSION:2.0
METHOD:PUBLISH
BEGIN:VEVENT
DTSTART:20240628T170000Z
DTEND:20240630T220000Z
LOCATION:Pacifica, CA 94044
TRANSP: OPAQUE
SEQUENCE:0
UID:
DTSTAMP:20260419T061832Z
SUMMARY:Estate Sale Extravaganza, Tools, Art, Furniture, and Treasures!
DESCRIPTION:Estate Sale Extravaganza, Tools, Art, Furniture, and Treasures! Timeless Selection 
UID:1776601112
STREET-ADDRESS:See website
POSTAL-CODE:94044
LOCALITY:Pacifica
REGION:ABBREV=CA
COUNTRY:ABBREV=US;ABBREV=USA:United States
URL;TYPE=Event Listing:https://estatesales.org/estate-sales/ca/pacifica/94044/estate-sale-extravaganza-tools-art-2324513
PRIORITY:1
CLASS:PUBLIC
SEQUENCE:0
STATUS:CONFIRMED
TRANSP:OPAQUE
END:VEVENT
END:VCALENDAR
