BEGIN:VCALENDAR
VERSION:2.0
METHOD:PUBLISH
BEGIN:VEVENT
DTSTART:20240628T140000Z
DTEND:20240629T190000Z
LOCATION:Stone Mountain, GA 30083
TRANSP: OPAQUE
SEQUENCE:0
UID:
DTSTAMP:20260423T185904Z
SUMMARY:50% OFF! BEE'S KNEES ARE IN STONE MOUNTAIN
DESCRIPTION:50% OFF! BEE'S KNEES ARE IN STONE MOUNTAIN Bee's Knees Estate Sales LLC 
UID:1776992344
STREET-ADDRESS:See website
POSTAL-CODE:30083
LOCALITY:Stone Mountain
REGION:ABBREV=GA
COUNTRY:ABBREV=US;ABBREV=USA:United States
URL;TYPE=Event Listing:https://estatesales.org/estate-sales/ga/stone-mountain/30083/bees-knees-are-in-stone-2323395
PRIORITY:1
CLASS:PUBLIC
SEQUENCE:0
STATUS:CONFIRMED
TRANSP:OPAQUE
END:VEVENT
END:VCALENDAR
