BEGIN:VCALENDAR
VERSION:2.0
METHOD:PUBLISH
BEGIN:VEVENT
DTSTART:20240628T130000Z
DTEND:20240630T200000Z
LOCATION:Athens, GA 30601
TRANSP: OPAQUE
SEQUENCE:0
UID:
DTSTAMP:20260424T115812Z
SUMMARY:50% OFF SATURDAY!!! MOVING SALE
DESCRIPTION:50% OFF SATURDAY!!! MOVING SALE Athena Estate Sales 
UID:1777053492
STREET-ADDRESS:See website
POSTAL-CODE:30601
LOCALITY:Athens
REGION:ABBREV=GA
COUNTRY:ABBREV=US;ABBREV=USA:United States
URL;TYPE=Event Listing:https://estatesales.org/estate-sales/ga/athens/30601/50-off-saturday-moving-sale-2320754
PRIORITY:1
CLASS:PUBLIC
SEQUENCE:0
STATUS:CONFIRMED
TRANSP:OPAQUE
END:VEVENT
END:VCALENDAR
