BEGIN:VCALENDAR
VERSION:2.0
METHOD:PUBLISH
BEGIN:VEVENT
DTSTART:20240628T130000Z
DTEND:20240630T180000Z
LOCATION:New Orleans, LA 70121
TRANSP: OPAQUE
SEQUENCE:0
UID:
DTSTAMP:20260421T083518Z
SUMMARY:The Gem Of Jefferson
DESCRIPTION:The Gem Of Jefferson
UID:1776782118
STREET-ADDRESS:See website
POSTAL-CODE:70121
LOCALITY:New Orleans
REGION:ABBREV=LA
COUNTRY:ABBREV=US;ABBREV=USA:United States
URL;TYPE=Event Listing:https://estatesales.org/estate-sales/la/jefferson-/70121/the-gem-of-jefferson-2324266
PRIORITY:1
CLASS:PUBLIC
SEQUENCE:0
STATUS:CONFIRMED
TRANSP:OPAQUE
END:VEVENT
END:VCALENDAR
