BEGIN:VCALENDAR
VERSION:2.0
METHOD:PUBLISH
BEGIN:VEVENT
DTSTART:20240628T140000Z
DTEND:20240629T210000Z
LOCATION:Waupaca, WI 54981
TRANSP: OPAQUE
SEQUENCE:0
UID:
DTSTAMP:20260424T213715Z
SUMMARY:Waupaca, ESTATE SALE BY "The Estate Sale Squad". Fri. 6/28 & Sat. 6/29 - 9AM
DESCRIPTION:Waupaca, ESTATE SALE BY "The Estate Sale Squad". Fri. 6/28 & Sat. 6/29 - 9AM Estate Sale Squad LLC 
UID:1777088235
STREET-ADDRESS:See website
POSTAL-CODE:54981
LOCALITY:Waupaca
REGION:ABBREV=WI
COUNTRY:ABBREV=US;ABBREV=USA:United States
URL;TYPE=Event Listing:https://estatesales.org/estate-sales/wi/waupaca/54981/waupaca-estate-sale-by-the-2324012
PRIORITY:1
CLASS:PUBLIC
SEQUENCE:0
STATUS:CONFIRMED
TRANSP:OPAQUE
END:VEVENT
END:VCALENDAR
