BEGIN:VCALENDAR
VERSION:2.0
METHOD:PUBLISH
BEGIN:VEVENT
DTSTART:20240628T120000Z
DTEND:20240629T190000Z
LOCATION:Hartford, CT 06105
TRANSP: OPAQUE
SEQUENCE:0
UID:
DTSTAMP:20260425T152509Z
SUMMARY:Hartford West End Estate Sale
DESCRIPTION:Hartford West End Estate Sale Sean Mahoney Estate Sales LLC 
UID:1777152309
STREET-ADDRESS:See website
POSTAL-CODE:06105
LOCALITY:Hartford
REGION:ABBREV=CT
COUNTRY:ABBREV=US;ABBREV=USA:United States
URL;TYPE=Event Listing:https://estatesales.org/estate-sales/ct/hartford/06105/hartford-west-end-estate-sale-2324007
PRIORITY:1
CLASS:PUBLIC
SEQUENCE:0
STATUS:CONFIRMED
TRANSP:OPAQUE
END:VEVENT
END:VCALENDAR
