BEGIN:VCALENDAR
VERSION:2.0
METHOD:PUBLISH
BEGIN:VEVENT
DTSTART:20240628T210000Z
DTEND:20240630T200000Z
LOCATION:Atlanta, GA 30340
TRANSP: OPAQUE
SEQUENCE:0
UID:
DTSTAMP:20260422T031433Z
SUMMARY:Time Capsule Sale in Norcross
DESCRIPTION:Time Capsule Sale in Norcross Ruth's Reselling, LLC 
UID:1776849273
STREET-ADDRESS:See website
POSTAL-CODE:30340
LOCALITY:Atlanta
REGION:ABBREV=GA
COUNTRY:ABBREV=US;ABBREV=USA:United States
URL;TYPE=Event Listing:https://estatesales.org/estate-sales/ga/atlanta/30340/time-capsule-sale-in-norcross-2323133
PRIORITY:1
CLASS:PUBLIC
SEQUENCE:0
STATUS:CONFIRMED
TRANSP:OPAQUE
END:VEVENT
END:VCALENDAR
