BEGIN:VCALENDAR
VERSION:2.0
METHOD:PUBLISH
BEGIN:VEVENT
DTSTART:20230628T140000Z
DTEND:20230628T210000Z
LOCATION:Beacon, NY 12508
TRANSP: OPAQUE
SEQUENCE:0
UID:
DTSTAMP:20260420T102535Z
SUMMARY:Old Fashioned In-House Estate Auction
DESCRIPTION:Old Fashioned In-House Estate Auction Hudson Valley Auctioneers 
UID:1776702335
STREET-ADDRESS:See website
POSTAL-CODE:12508
LOCALITY:Beacon
REGION:ABBREV=NY
COUNTRY:ABBREV=US;ABBREV=USA:United States
URL;TYPE=Event Listing:https://estatesales.org/estate-sales/ny/beacon/12508/old-fashioned-inhouse-estate-auction-2196215
PRIORITY:1
CLASS:PUBLIC
SEQUENCE:0
STATUS:CONFIRMED
TRANSP:OPAQUE
END:VEVENT
END:VCALENDAR
