BEGIN:VCALENDAR
VERSION:2.0
METHOD:PUBLISH
BEGIN:VEVENT
DTSTART:20190628T140000Z
DTEND:20190630T190000Z
LOCATION:Purcellville, VA 20132
TRANSP: OPAQUE
SEQUENCE:0
UID:
DTSTAMP:20260424T133514Z
SUMMARY:LUX & LOADED in Purcellville
DESCRIPTION:LUX & LOADED in Purcellville Great Estate Solutions 
UID:1777059314
STREET-ADDRESS:See website
POSTAL-CODE:20132
LOCALITY:Purcellville
REGION:ABBREV=VA
COUNTRY:ABBREV=US;ABBREV=USA:United States
URL;TYPE=Event Listing:https://estatesales.org/estate-sales/va/purcellville/20132/lux-loaded-in-purcellville-1681691
PRIORITY:1
CLASS:PUBLIC
SEQUENCE:0
STATUS:CONFIRMED
TRANSP:OPAQUE
END:VEVENT
END:VCALENDAR
