BEGIN:VCALENDAR
VERSION:2.0
METHOD:PUBLISH
BEGIN:VEVENT
DTSTART:20260627T120000Z
DTEND:20260628T190000Z
LOCATION:North Stonington, CT 06359 (Full address will be shown on Thu, Jun 25 12:00am)
TRANSP: OPAQUE
SEQUENCE:0
UID:
DTSTAMP:20260423T062741Z
SUMMARY:North Stonington Estate Sale
DESCRIPTION:North Stonington Estate Sale Shoreline Estate Sales CT 
UID:1776947261
STREET-ADDRESS:See website
POSTAL-CODE:06359
LOCALITY:North Stonington
REGION:ABBREV=CT
COUNTRY:ABBREV=US;ABBREV=USA:United States
URL;TYPE=Event Listing:https://estatesales.org/estate-sales/ct/north-stonington/06359/north-stonington-estate-sale-2436706
PRIORITY:1
CLASS:PUBLIC
SEQUENCE:0
STATUS:CONFIRMED
TRANSP:OPAQUE
END:VEVENT
END:VCALENDAR
