BEGIN:VCALENDAR
VERSION:2.0
METHOD:PUBLISH
BEGIN:VEVENT
DTSTART:20250627T140000Z
DTEND:20250629T190000Z
LOCATION:Virginia Beach, VA 23452
TRANSP: OPAQUE
SEQUENCE:0
UID:
DTSTAMP:20260421T032551Z
SUMMARY:3 DAY ESTATE SALE 464 LINEBERRY RD. VIRGINIA BEACH VA 23452 FRI.-SUN JUNE 27 - 29
DESCRIPTION:3 DAY ESTATE SALE 464 LINEBERRY RD. VIRGINIA BEACH VA 23452 FRI.-SUN JUNE 27 - 29 Randy's Auction Gallery Ltd. 
UID:1776763551
STREET-ADDRESS:See website
POSTAL-CODE:23452
LOCALITY:Virginia Beach
REGION:ABBREV=VA
COUNTRY:ABBREV=US;ABBREV=USA:United States
URL;TYPE=Event Listing:https://estatesales.org/estate-sales/va/virginia-beach/23452/3-day-estate-sale-464-2385767
PRIORITY:1
CLASS:PUBLIC
SEQUENCE:0
STATUS:CONFIRMED
TRANSP:OPAQUE
END:VEVENT
END:VCALENDAR
