BEGIN:VCALENDAR
VERSION:2.0
METHOD:PUBLISH
BEGIN:VEVENT
DTSTART:20250627T150000Z
DTEND:20250629T230000Z
LOCATION:North Richland Hills, TX 76180
TRANSP: OPAQUE
SEQUENCE:0
UID:
DTSTAMP:20260421T210441Z
SUMMARY:It’s A Hole In ONE For The HORSE!! 50% OFF SUNDAY!!
DESCRIPTION:It’s A Hole In ONE For The HORSE!! 50% OFF SUNDAY!! Above & Beyond It All Estate Sales 
UID:1776827081
STREET-ADDRESS:See website
POSTAL-CODE:76180
LOCALITY:North Richland Hills
REGION:ABBREV=TX
COUNTRY:ABBREV=US;ABBREV=USA:United States
URL;TYPE=Event Listing:https://estatesales.org/estate-sales/tx/north-richland-hills/76180/its-a-hole-in-one-2386857
PRIORITY:1
CLASS:PUBLIC
SEQUENCE:0
STATUS:CONFIRMED
TRANSP:OPAQUE
END:VEVENT
END:VCALENDAR
