BEGIN:VCALENDAR
VERSION:2.0
METHOD:PUBLISH
BEGIN:VEVENT
DTSTART:20250627T150000Z
DTEND:20250629T220000Z
LOCATION:Riverside, CA 92507
TRANSP: OPAQUE
SEQUENCE:0
UID:
DTSTAMP:20260419T223744Z
SUMMARY:Very Nice Sale in Riverside this Weekend!
DESCRIPTION:Very Nice Sale in Riverside this Weekend! Estate Sales by Dee 
UID:1776659864
STREET-ADDRESS:See website
POSTAL-CODE:92507
LOCALITY:Riverside
REGION:ABBREV=CA
COUNTRY:ABBREV=US;ABBREV=USA:United States
URL;TYPE=Event Listing:https://estatesales.org/estate-sales/ca/riverside/92507/very-nice-sale-in-riverside-2386668
PRIORITY:1
CLASS:PUBLIC
SEQUENCE:0
STATUS:CONFIRMED
TRANSP:OPAQUE
END:VEVENT
END:VCALENDAR
