BEGIN:VCALENDAR
VERSION:2.0
METHOD:PUBLISH
BEGIN:VEVENT
DTSTART:20250627T150000Z
DTEND:20250628T200000Z
LOCATION:Scottsdale, AZ 85255
TRANSP: OPAQUE
SEQUENCE:0
UID:
DTSTAMP:20260425T094127Z
SUMMARY:Pinnacle Peak County Club 5 Million Dollar Home Estate Sale
DESCRIPTION:Pinnacle Peak County Club 5 Million Dollar Home Estate Sale Fresh Start Estate Sales LLC 
UID:1777131687
STREET-ADDRESS:See website
POSTAL-CODE:85255
LOCALITY:Scottsdale
REGION:ABBREV=AZ
COUNTRY:ABBREV=US;ABBREV=USA:United States
URL;TYPE=Event Listing:https://estatesales.org/estate-sales/az/scottsdale/85255/pinnacle-peak-county-club-5-2379037
PRIORITY:1
CLASS:PUBLIC
SEQUENCE:0
STATUS:CONFIRMED
TRANSP:OPAQUE
END:VEVENT
END:VCALENDAR
