BEGIN:VCALENDAR
VERSION:2.0
METHOD:PUBLISH
BEGIN:VEVENT
DTSTART:20240627T170000Z
DTEND:20240629T220000Z
LOCATION:Los Angeles, CA 90045
TRANSP: OPAQUE
SEQUENCE:0
UID:
DTSTAMP:20260420T023523Z
SUMMARY:*50% Off Saturday - Last Chance
DESCRIPTION:*50% Off Saturday - Last Chance Diamond Heirlooms Estate Sales & Consulting  LLC 
UID:1776674123
STREET-ADDRESS:See website
POSTAL-CODE:90045
LOCALITY:Los Angeles
REGION:ABBREV=CA
COUNTRY:ABBREV=US;ABBREV=USA:United States
URL;TYPE=Event Listing:https://estatesales.org/estate-sales/ca/los-angeles/90045/25-off-friday-westchester-sale-2323944
PRIORITY:1
CLASS:PUBLIC
SEQUENCE:0
STATUS:CONFIRMED
TRANSP:OPAQUE
END:VEVENT
END:VCALENDAR
