BEGIN:VCALENDAR
VERSION:2.0
METHOD:PUBLISH
BEGIN:VEVENT
DTSTART:20240627T160000Z
DTEND:20240629T210000Z
LOCATION:Pittsburg, CA 94565
TRANSP: OPAQUE
SEQUENCE:0
UID:
DTSTAMP:20260419T054017Z
SUMMARY:Estate sale in Bay Point Ca. by Horizons LLC
DESCRIPTION:Estate sale in Bay Point Ca. by Horizons LLC Horizons Estate Sales LLC 
UID:1776598817
STREET-ADDRESS:See website
POSTAL-CODE:94565
LOCALITY:Pittsburg
REGION:ABBREV=CA
COUNTRY:ABBREV=US;ABBREV=USA:United States
URL;TYPE=Event Listing:https://estatesales.org/estate-sales/ca/bay-point/94565/estate-sale-in-bay-point-2324189
PRIORITY:1
CLASS:PUBLIC
SEQUENCE:0
STATUS:CONFIRMED
TRANSP:OPAQUE
END:VEVENT
END:VCALENDAR
