BEGIN:VCALENDAR
VERSION:2.0
METHOD:PUBLISH
BEGIN:VEVENT
DTSTART:20210627T120000Z
DTEND:20210627T190000Z
LOCATION:Dudley, MA 01571
TRANSP: OPAQUE
SEQUENCE:0
UID:
DTSTAMP:20260425T113143Z
SUMMARY:1 day liquidation nice home furnishings jewelry bears lawn tractor rugs and more
DESCRIPTION:1 day liquidation nice home furnishings jewelry bears lawn tractor rugs and more Stress Free Estate Services LLC 
UID:1777138303
STREET-ADDRESS:See website
POSTAL-CODE:01571
LOCALITY:Dudley
REGION:ABBREV=MA
COUNTRY:ABBREV=US;ABBREV=USA:United States
URL;TYPE=Event Listing:https://estatesales.org/estate-sales/ma/dudley/01571/1-day-liquidation-nice-home-1914795
PRIORITY:1
CLASS:PUBLIC
SEQUENCE:0
STATUS:CONFIRMED
TRANSP:OPAQUE
END:VEVENT
END:VCALENDAR
