BEGIN:VCALENDAR
VERSION:2.0
METHOD:PUBLISH
BEGIN:VEVENT
DTSTART:20200627T151000Z
DTEND:20200629T210000Z
LOCATION:Lancaster, NY 14086
TRANSP: OPAQUE
SEQUENCE:0
UID:
DTSTAMP:20260425T201510Z
SUMMARY:ONE DAY quick sale in Lancaster
DESCRIPTION:ONE DAY quick sale in Lancaster Online Estate Auctions 
UID:1777169710
STREET-ADDRESS:See website
POSTAL-CODE:14086
LOCALITY:Lancaster
REGION:ABBREV=NY
COUNTRY:ABBREV=US;ABBREV=USA:United States
URL;TYPE=Event Listing:https://estatesales.org/estate-sales/ny/lancaster/14086/one-day-quick-sale-in-1795845
PRIORITY:1
CLASS:PUBLIC
SEQUENCE:0
STATUS:CONFIRMED
TRANSP:OPAQUE
END:VEVENT
END:VCALENDAR
