BEGIN:VCALENDAR
VERSION:2.0
METHOD:PUBLISH
BEGIN:VEVENT
DTSTART:20200627T170000Z
DTEND:20200628T220000Z
LOCATION:La Crescenta, CA 91214
TRANSP: OPAQUE
SEQUENCE:0
UID:
DTSTAMP:20260420T020314Z
SUMMARY:World Wide Collections, Mid Century, Unique and Current Items. Private Car Collection
DESCRIPTION:World Wide Collections, Mid Century, Unique and Current Items. Private Car Collection Triumphant Estate Sales of Los Angeles 
UID:1776672194
STREET-ADDRESS:See website
POSTAL-CODE:91214
LOCALITY:La Crescenta
REGION:ABBREV=CA
COUNTRY:ABBREV=US;ABBREV=USA:United States
URL;TYPE=Event Listing:https://estatesales.org/estate-sales/ca/la-crescenta/91214/world-wide-collections-mid-century-1794309
PRIORITY:1
CLASS:PUBLIC
SEQUENCE:0
STATUS:CONFIRMED
TRANSP:OPAQUE
END:VEVENT
END:VCALENDAR
