BEGIN:VCALENDAR
VERSION:2.0
METHOD:PUBLISH
BEGIN:VEVENT
DTSTART:20150627T120000Z
DTEND:20150628T180000Z
LOCATION:Saint Peters, MO 63376
TRANSP: OPAQUE
SEQUENCE:0
UID:
DTSTAMP:20260419T105905Z
SUMMARY:Bogard's Estate Sale - St. Peters MO (St Charles County)
DESCRIPTION:Bogard's Estate Sale - St. Peters MO (St Charles County) Bogard's Estate Sales 
UID:1776617945
STREET-ADDRESS:See website
POSTAL-CODE:63376
LOCALITY:Saint Peters
REGION:ABBREV=MO
COUNTRY:ABBREV=US;ABBREV=USA:United States
URL;TYPE=Event Listing:https://estatesales.org/estate-sales/mo/saint-peters/63376/bogards-estate-sale-st-peters-542263
PRIORITY:1
CLASS:PUBLIC
SEQUENCE:0
STATUS:CONFIRMED
TRANSP:OPAQUE
END:VEVENT
END:VCALENDAR
