BEGIN:VCALENDAR
VERSION:2.0
METHOD:PUBLISH
BEGIN:VEVENT
DTSTART:20140627T123000Z
DTEND:20140628T160000Z
LOCATION:Jackson, MS 39211
TRANSP: OPAQUE
SEQUENCE:0
UID:
DTSTAMP:20260424T055618Z
SUMMARY:Eastover Estate Sale!
DESCRIPTION:Eastover Estate Sale! Caring Transitions Madison MS 
UID:1777031778
STREET-ADDRESS:See website
POSTAL-CODE:39211
LOCALITY:Jackson
REGION:ABBREV=MS
COUNTRY:ABBREV=US;ABBREV=USA:United States
URL;TYPE=Event Listing:https://estatesales.org/estate-sales/ms/jackson/39211/eastover-estate-sale-410103
PRIORITY:1
CLASS:PUBLIC
SEQUENCE:0
STATUS:CONFIRMED
TRANSP:OPAQUE
END:VEVENT
END:VCALENDAR
