BEGIN:VCALENDAR
VERSION:2.0
METHOD:PUBLISH
BEGIN:VEVENT
DTSTART:20260626T160000Z
DTEND:20260628T200000Z
LOCATION:Portland, OR 97216 (Full address will be shown on Fri, Jun 26 8:00am)
TRANSP: OPAQUE
SEQUENCE:0
UID:
DTSTAMP:20260424T164736Z
SUMMARY:The Rusty Trunk LLC opens to “Heirlooms & High Frequency ” Estate Sale
DESCRIPTION:The Rusty Trunk LLC opens to “Heirlooms & High Frequency ” Estate Sale The Rusty Trunk LLC 
UID:1777070856
STREET-ADDRESS:See website
POSTAL-CODE:97216
LOCALITY:Portland
REGION:ABBREV=OR
COUNTRY:ABBREV=US;ABBREV=USA:United States
URL;TYPE=Event Listing:https://estatesales.org/estate-sales/or/portland/97216/the-rusty-trunk-llc-opens-2437137
PRIORITY:1
CLASS:PUBLIC
SEQUENCE:0
STATUS:CONFIRMED
TRANSP:OPAQUE
END:VEVENT
END:VCALENDAR
