BEGIN:VCALENDAR
VERSION:2.0
METHOD:PUBLISH
BEGIN:VEVENT
DTSTART:20250626T150000Z
DTEND:20250628T200000Z
LOCATION:Littleton, CO 80121
TRANSP: OPAQUE
SEQUENCE:0
UID:
DTSTAMP:20260419T061726Z
SUMMARY:Grasons of SW Denver - Unique & Classy
DESCRIPTION:Grasons of SW Denver - Unique & Classy Grasons of Southwest Denver, CO 
UID:1776601046
STREET-ADDRESS:See website
POSTAL-CODE:80121
LOCALITY:Littleton
REGION:ABBREV=CO
COUNTRY:ABBREV=US;ABBREV=USA:United States
URL;TYPE=Event Listing:https://estatesales.org/estate-sales/co/centennial/80121/grasons-of-sw-denver-unique-2386280
PRIORITY:1
CLASS:PUBLIC
SEQUENCE:0
STATUS:CONFIRMED
TRANSP:OPAQUE
END:VEVENT
END:VCALENDAR
