BEGIN:VCALENDAR
VERSION:2.0
METHOD:PUBLISH
BEGIN:VEVENT
DTSTART:20250626T140000Z
DTEND:20250628T190000Z
LOCATION:Prior Lake, MN 55372
TRANSP: OPAQUE
SEQUENCE:0
UID:
DTSTAMP:20260424T062444Z
SUMMARY:Prior Lake Downsizing Treasures: Home, Garage & More!
DESCRIPTION:Prior Lake Downsizing Treasures: Home, Garage & More! Grasons of Dakota County, MN 
UID:1777033484
STREET-ADDRESS:See website
POSTAL-CODE:55372
LOCALITY:Prior Lake
REGION:ABBREV=MN
COUNTRY:ABBREV=US;ABBREV=USA:United States
URL;TYPE=Event Listing:https://estatesales.org/estate-sales/mn/prior-lake/55372/prior-lake-downsizing-treasures-home-2384967
PRIORITY:1
CLASS:PUBLIC
SEQUENCE:0
STATUS:CONFIRMED
TRANSP:OPAQUE
END:VEVENT
END:VCALENDAR
