BEGIN:VCALENDAR
VERSION:2.0
METHOD:PUBLISH
BEGIN:VEVENT
DTSTART:20210626T130000Z
DTEND:20210627T200000Z
LOCATION:Trumbull, CT 06611
TRANSP: OPAQUE
SEQUENCE:0
UID:
DTSTAMP:20260424T115813Z
SUMMARY:Outstanding Upscale Trumbull CT Moving Sale June 26+27, 9-4
DESCRIPTION:Outstanding Upscale Trumbull CT Moving Sale June 26+27, 9-4 A Golden Grasshopper Estate Sales 
UID:1777053493
STREET-ADDRESS:See website
POSTAL-CODE:06611
LOCALITY:Trumbull
REGION:ABBREV=CT
COUNTRY:ABBREV=US;ABBREV=USA:United States
URL;TYPE=Event Listing:https://estatesales.org/estate-sales/ct/trumbull/06611/outstanding-upscale-trumbull-ct-moving-1922573
PRIORITY:1
CLASS:PUBLIC
SEQUENCE:0
STATUS:CONFIRMED
TRANSP:OPAQUE
END:VEVENT
END:VCALENDAR
