BEGIN:VCALENDAR
VERSION:2.0
METHOD:PUBLISH
BEGIN:VEVENT
DTSTART:20210626T150000Z
DTEND:20210626T210000Z
LOCATION:Edmond, OK 73012
TRANSP: OPAQUE
SEQUENCE:0
UID:
DTSTAMP:20260425T162548Z
SUMMARY:That Thing You Need - One Day Only!
DESCRIPTION:That Thing You Need - One Day Only! Roadrunner Estate Sales 
UID:1777155948
STREET-ADDRESS:See website
POSTAL-CODE:73012
LOCALITY:Edmond
REGION:ABBREV=OK
COUNTRY:ABBREV=US;ABBREV=USA:United States
URL;TYPE=Event Listing:https://estatesales.org/estate-sales/ok/edmond/73012/that-thing-you-need-one-1920905
PRIORITY:1
CLASS:PUBLIC
SEQUENCE:0
STATUS:CONFIRMED
TRANSP:OPAQUE
END:VEVENT
END:VCALENDAR
