BEGIN:VCALENDAR
VERSION:2.0
METHOD:PUBLISH
BEGIN:VEVENT
DTSTART:20220625T130000Z
DTEND:20220625T190000Z
LOCATION:Dover, MA 02030
TRANSP: OPAQUE
SEQUENCE:0
UID:
DTSTAMP:20260419T092005Z
SUMMARY:Country Dover Estate Sale
DESCRIPTION:Country Dover Estate Sale Estate Sale Specialists, LLC 
UID:1776612005
STREET-ADDRESS:See website
POSTAL-CODE:02030
LOCALITY:Dover
REGION:ABBREV=MA
COUNTRY:ABBREV=US;ABBREV=USA:United States
URL;TYPE=Event Listing:https://estatesales.org/estate-sales/ma/dover/02030/country-dover-estate-sale-2056879
PRIORITY:1
CLASS:PUBLIC
SEQUENCE:0
STATUS:CONFIRMED
TRANSP:OPAQUE
END:VEVENT
END:VCALENDAR
