BEGIN:VCALENDAR
VERSION:2.0
METHOD:PUBLISH
BEGIN:VEVENT
DTSTART:20220625T120000Z
DTEND:20220626T180000Z
LOCATION:Ligonier, PA 15658
TRANSP: OPAQUE
SEQUENCE:0
UID:
DTSTAMP:20260419T082555Z
SUMMARY: Antique/Modern Sale in Ligonier Pa 
DESCRIPTION: Antique/Modern Sale in Ligonier Pa  Williams & Barron Estate Services LLC 
UID:1776608755
STREET-ADDRESS:See website
POSTAL-CODE:15658
LOCALITY:Ligonier
REGION:ABBREV=PA
COUNTRY:ABBREV=US;ABBREV=USA:United States
URL;TYPE=Event Listing:https://estatesales.org/estate-sales/pa/ligonier/15658/antiquemodern-sale-in-ligonier-pa-2058723
PRIORITY:1
CLASS:PUBLIC
SEQUENCE:0
STATUS:CONFIRMED
TRANSP:OPAQUE
END:VEVENT
END:VCALENDAR
