BEGIN:VCALENDAR
VERSION:2.0
METHOD:PUBLISH
BEGIN:VEVENT
DTSTART:20210625T130000Z
DTEND:20210626T190000Z
LOCATION:Joplin, MO 64804
TRANSP: OPAQUE
SEQUENCE:0
UID:
DTSTAMP:20260419T123027Z
SUMMARY:Gorgeous Downsizing Estate Tag Sale of Verlin and Joyce Snider
DESCRIPTION:Gorgeous Downsizing Estate Tag Sale of Verlin and Joyce Snider New Beginnings Estate Sales of SW MO 
UID:1776623427
STREET-ADDRESS:See website
POSTAL-CODE:64804
LOCALITY:Joplin
REGION:ABBREV=MO
COUNTRY:ABBREV=US;ABBREV=USA:United States
URL;TYPE=Event Listing:https://estatesales.org/estate-sales/mo/joplin/64804/gorgeous-downsizing-estate-tag-sale-1922067
PRIORITY:1
CLASS:PUBLIC
SEQUENCE:0
STATUS:CONFIRMED
TRANSP:OPAQUE
END:VEVENT
END:VCALENDAR
