BEGIN:VCALENDAR
VERSION:2.0
METHOD:PUBLISH
BEGIN:VEVENT
DTSTART:20210625T140000Z
DTEND:20210626T180000Z
LOCATION:Bothell, WA 98012
TRANSP: OPAQUE
SEQUENCE:0
UID:
DTSTAMP:20260423T070326Z
SUMMARY:**Girlfriends Mill Creek Estate Sale**
DESCRIPTION:**Girlfriends Mill Creek Estate Sale** Girlfriends Estate Sales INC 
UID:1776949406
STREET-ADDRESS:See website
POSTAL-CODE:98012
LOCALITY:Bothell
REGION:ABBREV=WA
COUNTRY:ABBREV=US;ABBREV=USA:United States
URL;TYPE=Event Listing:https://estatesales.org/estate-sales/wa/mill-creek/98012/girlfriends-mill-creek-estate-sale-1888445
PRIORITY:1
CLASS:PUBLIC
SEQUENCE:0
STATUS:CONFIRMED
TRANSP:OPAQUE
END:VEVENT
END:VCALENDAR
