BEGIN:VCALENDAR
VERSION:2.0
METHOD:PUBLISH
BEGIN:VEVENT
DTSTART:20200625T160000Z
DTEND:20200627T220000Z
LOCATION:Hurst, TX 76053
TRANSP: OPAQUE
SEQUENCE:0
UID:
DTSTAMP:20260423T070325Z
SUMMARY:SAGE PATINA Hosts Vintage, Antiques & New Enormous Estate Sale in Hurst!  50% Off Today!
DESCRIPTION:SAGE PATINA Hosts Vintage, Antiques & New Enormous Estate Sale in Hurst!  50% Off Today! SAGE PATINA Estate Sales 
UID:1776949405
STREET-ADDRESS:See website
POSTAL-CODE:76053
LOCALITY:Hurst
REGION:ABBREV=TX
COUNTRY:ABBREV=US;ABBREV=USA:United States
URL;TYPE=Event Listing:https://estatesales.org/estate-sales/tx/hurst/76053/sage-patina-hosts-vintage-antiques-1774677
PRIORITY:1
CLASS:PUBLIC
SEQUENCE:0
STATUS:CONFIRMED
TRANSP:OPAQUE
END:VEVENT
END:VCALENDAR
