BEGIN:VCALENDAR
VERSION:2.0
METHOD:PUBLISH
BEGIN:VEVENT
DTSTART:20200625T133000Z
DTEND:20200627T183000Z
LOCATION:Mount Juliet, TN 37122
TRANSP: OPAQUE
SEQUENCE:0
UID:
DTSTAMP:20260423T140000Z
SUMMARY:Estate Sale Mt Juliet Tennessee 
DESCRIPTION:Estate Sale Mt Juliet Tennessee  Auction 
UID:1776974400
STREET-ADDRESS:See website
POSTAL-CODE:37122
LOCALITY:Mount Juliet
REGION:ABBREV=TN
COUNTRY:ABBREV=US;ABBREV=USA:United States
URL;TYPE=Event Listing:https://estatesales.org/estate-sales/tn/mt-juliet/37122/estate-sale-mt-juliet-tennessee-1788345
PRIORITY:1
CLASS:PUBLIC
SEQUENCE:0
STATUS:CONFIRMED
TRANSP:OPAQUE
END:VEVENT
END:VCALENDAR
