BEGIN:VCALENDAR
VERSION:2.0
METHOD:PUBLISH
BEGIN:VEVENT
DTSTART:20150625T130000Z
DTEND:20150627T210000Z
LOCATION:Dallas, TX 75252
TRANSP: OPAQUE
SEQUENCE:0
UID:
DTSTAMP:20260420T102538Z
SUMMARY:A Decorator's Treasure Trove
DESCRIPTION:A Decorator's Treasure Trove Dynamic Paradigms 
UID:1776702338
STREET-ADDRESS:See website
POSTAL-CODE:75252
LOCALITY:Dallas
REGION:ABBREV=TX
COUNTRY:ABBREV=US;ABBREV=USA:United States
URL;TYPE=Event Listing:https://estatesales.org/estate-sales/tx/dallas/75252/a-decorators-treasure-trove-603695
PRIORITY:1
CLASS:PUBLIC
SEQUENCE:0
STATUS:CONFIRMED
TRANSP:OPAQUE
END:VEVENT
END:VCALENDAR
