BEGIN:VCALENDAR
VERSION:2.0
METHOD:PUBLISH
BEGIN:VEVENT
DTSTART:20150625T160000Z
DTEND:20150628T000000Z
LOCATION:Pasadena, CA 91106
TRANSP: OPAQUE
SEQUENCE:0
UID:
DTSTAMP:20260424T202627Z
SUMMARY:1916 PASADENA ESTATE SALE ““ SECOND AND LAST WEEKEND
DESCRIPTION:1916 PASADENA ESTATE SALE ““ SECOND AND LAST WEEKEND Sharon Yost Estate Sales 
UID:1777083987
STREET-ADDRESS:See website
POSTAL-CODE:91106
LOCALITY:Pasadena
REGION:ABBREV=CA
COUNTRY:ABBREV=US;ABBREV=USA:United States
URL;TYPE=Event Listing:https://estatesales.org/estate-sales/ca/pasadena/91106/1916-pasadena-estate-sale-second-602333
PRIORITY:1
CLASS:PUBLIC
SEQUENCE:0
STATUS:CONFIRMED
TRANSP:OPAQUE
END:VEVENT
END:VCALENDAR
