BEGIN:VCALENDAR
VERSION:2.0
METHOD:PUBLISH
BEGIN:VEVENT
DTSTART:20230624T160000Z
DTEND:20230625T210000Z
LOCATION:Burbank, CA 91505
TRANSP: OPAQUE
SEQUENCE:0
UID:
DTSTAMP:20260420T044048Z
SUMMARY: Discount Sunday Toluca Lake Estate Sale (personal assistant for BOB HOPE)
DESCRIPTION: Discount Sunday Toluca Lake Estate Sale (personal assistant for BOB HOPE) Hidden Treasure Estate Sales 
UID:1776681648
STREET-ADDRESS:See website
POSTAL-CODE:91505
LOCALITY:Burbank
REGION:ABBREV=CA
COUNTRY:ABBREV=US;ABBREV=USA:United States
URL;TYPE=Event Listing:https://estatesales.org/estate-sales/ca/burbank/91505/discount-sunday-toluca-lake-estate-2197279
PRIORITY:1
CLASS:PUBLIC
SEQUENCE:0
STATUS:CONFIRMED
TRANSP:OPAQUE
END:VEVENT
END:VCALENDAR
